BEGIN:VCALENDAR
VERSION:2.0
PRODID:-//Gamma Pi Alumni Association - ECPv6.15.20//NONSGML v1.0//EN
CALSCALE:GREGORIAN
METHOD:PUBLISH
X-WR-CALNAME:Gamma Pi Alumni Association
X-ORIGINAL-URL:https://kapsi-gpialumni.org
X-WR-CALDESC:Events for Gamma Pi Alumni Association
REFRESH-INTERVAL;VALUE=DURATION:PT1H
X-Robots-Tag:noindex
X-PUBLISHED-TTL:PT1H
BEGIN:VTIMEZONE
TZID:UTC
BEGIN:STANDARD
TZOFFSETFROM:+0000
TZOFFSETTO:+0000
TZNAME:UTC
DTSTART:20220101T000000
END:STANDARD
END:VTIMEZONE
BEGIN:VTIMEZONE
TZID:America/Chicago
BEGIN:DAYLIGHT
TZOFFSETFROM:-0600
TZOFFSETTO:-0500
TZNAME:CDT
DTSTART:20220313T080000
END:DAYLIGHT
BEGIN:STANDARD
TZOFFSETFROM:-0500
TZOFFSETTO:-0600
TZNAME:CST
DTSTART:20221106T070000
END:STANDARD
BEGIN:DAYLIGHT
TZOFFSETFROM:-0600
TZOFFSETTO:-0500
TZNAME:CDT
DTSTART:20230312T080000
END:DAYLIGHT
BEGIN:STANDARD
TZOFFSETFROM:-0500
TZOFFSETTO:-0600
TZNAME:CST
DTSTART:20231105T070000
END:STANDARD
BEGIN:DAYLIGHT
TZOFFSETFROM:-0600
TZOFFSETTO:-0500
TZNAME:CDT
DTSTART:20240310T080000
END:DAYLIGHT
BEGIN:STANDARD
TZOFFSETFROM:-0500
TZOFFSETTO:-0600
TZNAME:CST
DTSTART:20241103T070000
END:STANDARD
BEGIN:DAYLIGHT
TZOFFSETFROM:-0600
TZOFFSETTO:-0500
TZNAME:CDT
DTSTART:20250309T080000
END:DAYLIGHT
BEGIN:STANDARD
TZOFFSETFROM:-0500
TZOFFSETTO:-0600
TZNAME:CST
DTSTART:20251102T070000
END:STANDARD
BEGIN:DAYLIGHT
TZOFFSETFROM:-0600
TZOFFSETTO:-0500
TZNAME:CDT
DTSTART:20260308T080000
END:DAYLIGHT
BEGIN:STANDARD
TZOFFSETFROM:-0500
TZOFFSETTO:-0600
TZNAME:CST
DTSTART:20261101T070000
END:STANDARD
END:VTIMEZONE
BEGIN:VEVENT
DTSTART;VALUE=DATE:20260726
DTEND;VALUE=DATE:20260802
DTSTAMP:20260425T191528
CREATED:20251006T102100Z
LAST-MODIFIED:20251006T190345Z
UID:4327-1785024000-1785628799@kapsi-gpialumni.org
SUMMARY:Cruising For Excellence 2.0
DESCRIPTION:Deposit Collection Form\n\n\n                \n                        \n                             \n                        \n                        Name(Required)\n                            \n                            \n                                                    \n                                                    First\n                                                \n                            \n                            \n                                                    \n                                                    Last\n                                                \n                            \n                        Email(Required)\n                            \n                        Address(Required)    \n                    \n                         \n                                        \n                                        Street Address\n                                    \n                                        \n                                        Address Line 2\n                                    \n                                    \n                                    City\n                                 \n                                        \n                                        State / Province / Region\n                                      \n                                    \n                                    ZIP / Postal Code\n                                \n                                        AfghanistanAlbaniaAlgeriaAmerican SamoaAndorraAngolaAnguillaAntarcticaAntigua and BarbudaArgentinaArmeniaArubaAustraliaAustriaAzerbaijanBahamasBahrainBangladeshBarbadosBelarusBelgiumBelizeBeninBermudaBhutanBoliviaBonaire\, Sint Eustatius and SabaBosnia and HerzegovinaBotswanaBouvet IslandBrazilBritish Indian Ocean TerritoryBrunei DarussalamBulgariaBurkina FasoBurundiCabo VerdeCambodiaCameroonCanadaCayman IslandsCentral African RepublicChadChileChinaChristmas IslandCocos IslandsColombiaComorosCongoCongo\, Democratic Republic of theCook IslandsCosta RicaCroatiaCubaCuraçaoCyprusCzechiaCôte d'IvoireDenmarkDjiboutiDominicaDominican RepublicEcuadorEgyptEl SalvadorEquatorial GuineaEritreaEstoniaEswatiniEthiopiaFalkland IslandsFaroe IslandsFijiFinlandFranceFrench GuianaFrench PolynesiaFrench Southern TerritoriesGabonGambiaGeorgiaGermanyGhanaGibraltarGreeceGreenlandGrenadaGuadeloupeGuamGuatemalaGuernseyGuineaGuinea-BissauGuyanaHaitiHeard Island and McDonald IslandsHoly SeeHondurasHong KongHungaryIcelandIndiaIndonesiaIranIraqIrelandIsle of ManIsraelItalyJamaicaJapanJerseyJordanKazakhstanKenyaKiribatiKorea\, Democratic People's Republic ofKorea\, Republic ofKuwaitKyrgyzstanLao People's Democratic RepublicLatviaLebanonLesothoLiberiaLibyaLiechtensteinLithuaniaLuxembourgMacaoMadagascarMalawiMalaysiaMaldivesMaliMaltaMarshall IslandsMartiniqueMauritaniaMauritiusMayotteMexicoMicronesiaMoldovaMonacoMongoliaMontenegroMontserratMoroccoMozambiqueMyanmarNamibiaNauruNepalNetherlandsNew CaledoniaNew ZealandNicaraguaNigerNigeriaNiueNorfolk IslandNorth MacedoniaNorthern Mariana IslandsNorwayOmanPakistanPalauPalestine\, State ofPanamaPapua New GuineaParaguayPeruPhilippinesPitcairnPolandPortugalPuerto RicoQatarRomaniaRussian FederationRwandaRéunionSaint BarthélemySaint Helena\, Ascension and Tristan da CunhaSaint Kitts and NevisSaint LuciaSaint MartinSaint Pierre and MiquelonSaint Vincent and the GrenadinesSamoaSan MarinoSao Tome and PrincipeSaudi ArabiaSenegalSerbiaSeychellesSierra LeoneSingaporeSint MaartenSlovakiaSloveniaSolomon IslandsSomaliaSouth AfricaSouth Georgia and the South Sandwich IslandsSouth SudanSpainSri LankaSudanSurinameSvalbard and Jan MayenSwedenSwitzerlandSyria Arab RepublicTaiwanTajikistanTanzania\, the United Republic ofThailandTimor-LesteTogoTokelauTongaTrinidad and TobagoTunisiaTurkmenistanTurks and Caicos IslandsTuvaluTürkiyeUS Minor Outlying IslandsUgandaUkraineUnited Arab EmiratesUnited KingdomUnited StatesUruguayUzbekistanVanuatuVenezuelaViet NamVirgin Islands\, BritishVirgin Islands\, U.S.Wallis and FutunaWestern SaharaYemenZambiaZimbabweÅland Islands\n                                        Country\n                                    \n                    \n                Interior Stateroom Two twin beds that convert to Royal King\, a private bathroom\, and a sitting area. Stateroom: 149 sq. ft.; Accessible: 258 sq. ft.\n\nCentral Park View Balcony Two twin beds that convert to Royal King\, a Central Park view balcony\, a sitting area\, and a private bathroom. Stateroom: 182 sq. ft. Balcony: 52 sq. ft.; Accessible: 274 sq. ft.\, Balcony: 86 sq. ft.\n\nOceanview with Balcony Two twin beds that convert to a Royal King\, a sitting area with a sofa\, a full bathroom\, and a private balcony. Stateroom: 182 sq. ft. Balcony: 50 sq. ft.; Accessible: 272 sq. ft.\, Balcony: 80 sq. ft.\nChoose Your Room(Required)\n			\n					\n					$400.00 - Interior Stateroom \n			\n			\n					\n					$450.00 - Central Park View Balcony\n			\n			\n					\n					$500.00 - Oceanview with Balcony\n			Total\n							\n						Payment Method(Required)PayPal Checkout\n                                    MasterCardVisaSupported Credit Cards: MasterCard\, Visa\n                                    \n                                    Card Number\n                                 \n                                            \n                                                \n                                                Expiration Date\n                                            \n                                                \n                                                 \n                                                Security Code\n                                             \n                                        \n                                            \n                                            Cardholder Name\n                                         \n          \n            \n            \n            \n            \n            \n            \n            \n            \n            \n            \n            \n            \n            \n        \n                        \n                        \n\n\n\n\n\nDownload Flyer [PDF]
URL:https://kapsi-gpialumni.org/event/cruising-for-excellence-2-0/
LOCATION:MS
ATTACH;FMTTYPE=image/jpeg:https://kapsi-gpialumni.org/wp-content/uploads/2025/10/Final-Cruise-Flyer-Page-1-2026.jpg
END:VEVENT
BEGIN:VEVENT
DTSTART;VALUE=DATE:20251011
DTEND;VALUE=DATE:20251012
DTSTAMP:20260425T191528
CREATED:20251006T140212Z
LAST-MODIFIED:20251006T140234Z
UID:4366-1760140800-1760227199@kapsi-gpialumni.org
SUMMARY:HomeKoming Tailgate
DESCRIPTION:
URL:https://kapsi-gpialumni.org/event/homekoming-tailgate/
LOCATION:Alcorn State University\, 1000 ASU Dr.\, Lorman\, MS\, 39096\, United States
ATTACH;FMTTYPE=image/jpeg:https://kapsi-gpialumni.org/wp-content/uploads/2025/10/2025-GPAA-Homecoming-Event-1.jpg
END:VEVENT
BEGIN:VEVENT
DTSTART;VALUE=DATE:20251010
DTEND;VALUE=DATE:20251011
DTSTAMP:20260425T191528
CREATED:20250202T002007Z
LAST-MODIFIED:20250226T170607Z
UID:4058-1760054400-1760140799@kapsi-gpialumni.org
SUMMARY:9th Annual Marino Casem Scholarship Golf Tournament
DESCRIPTION:Registration Form\n\n\n\n\n\nDownload Brochure
URL:https://kapsi-gpialumni.org/event/golf-tournament-2025/
LOCATION:Clear Creek Golf Course\, 1566 Tiffentown Rd\, Vicksburg\, MS\, 39183\, United States
ATTACH;FMTTYPE=image/jpeg:https://kapsi-gpialumni.org/wp-content/uploads/2025/02/golf-brochure-thumbnail.jpg
END:VEVENT
BEGIN:VEVENT
DTSTART;VALUE=DATE:20250306
DTEND;VALUE=DATE:20250310
DTSTAMP:20260425T191528
CREATED:20250206T222215Z
LAST-MODIFIED:20250206T223912Z
UID:4094-1741219200-1741564799@kapsi-gpialumni.org
SUMMARY:48th Annual ASUNAA Mid-Winter Conference
DESCRIPTION:
URL:https://kapsi-gpialumni.org/event/48th-annual-asunaa-mid-winter-conference/
LOCATION:The Westin Dallas Park Central\, 12720 Merit Drive\, Dallas\, Texas\, 75251
ATTACH;FMTTYPE=image/webp:https://kapsi-gpialumni.org/wp-content/uploads/2025/02/48TH-MID-WINTER-CONFEFERENCE-LOGO-03-07-2024-scaled-1.webp
END:VEVENT
BEGIN:VEVENT
DTSTART;VALUE=DATE:20241123
DTEND;VALUE=DATE:20241124
DTSTAMP:20260425T191528
CREATED:20241023T214336Z
LAST-MODIFIED:20241023T223406Z
UID:3845-1732320000-1732406399@kapsi-gpialumni.org
SUMMARY:Alcorn vs JSU Tailgate
DESCRIPTION:Donate to Our Soul Bowl Tailgate
URL:https://kapsi-gpialumni.org/event/alcorn-vs-jsu-tailgate/
LOCATION:Alcorn State University\, 1000 ASU Dr.\, Lorman\, MS\, 39096\, United States
ATTACH;FMTTYPE=image/jpeg:https://kapsi-gpialumni.org/wp-content/uploads/2024/10/2024-GPAA-SOUL-BOWL-Event-2.jpg
END:VEVENT
BEGIN:VEVENT
DTSTART;VALUE=DATE:20240830
DTEND;VALUE=DATE:20240831
DTSTAMP:20260425T191528
CREATED:20240202T234432Z
LAST-MODIFIED:20241008T153129Z
UID:3100-1724976000-1725062399@kapsi-gpialumni.org
SUMMARY:8th Annual Marino Casem Scholarship Golf Tournament
DESCRIPTION:Registration Closed\n  \n\nWeekend Itinerary\n\nThursday 8/29\n4:00 PM\nGPAA Pre-Game Tailgate \n7:00 PM\nAlcorn State vs UAB  Football Game Kickoff\nProtective Stadium\nBirmingham\, AL \n\nFriday 8/30\n7:00 AM\nGPAA Golf Tournament Tee-off\nHighland Park Golf Course\nBirmingham\, AL \n9:00 AM\nSilhouette Civil Rights District Tour\nBirmingham Civil Rights Institute\n520 16th Ave N\nBirmingham\, AL \n7:00 PM\nNupes Night Out\nMichael’s Restaurant\n1525 1st Ave S\, Birmingham\, AL 35233\nwww.michaelssteakandseafood.com\n205-871-9525 \n\nSaturday 8/31\nON YOUR OWN\nShopping + Lunch\nRiverchase Galleria\n2000 Galleria Cir\nHoover\, AL \n6:00 PM\nNupes + Friends Mixer\nBirmingham Alumni Chapter of\nKappa Alpha Psi Fraternity\, Inc.\nFrat House\n45 6th Ave S\nBirmingham\, AL \n\n\n\n\nMail-In Brochure\nHilton Birmingham Downtown at UAB\n808 20th Street South\nBirmingham\, AL 35205Hotel Registration
URL:https://kapsi-gpialumni.org/event/golf-tournament-2024/
LOCATION:Highland Park Golf Course\, 330 Highland Ave South\, Birmingham\, AL\, United States
ATTACH;FMTTYPE=image/jpeg:https://kapsi-gpialumni.org/wp-content/uploads/2024/02/cover-golf-tournament-brochure.jpg
END:VEVENT
BEGIN:VEVENT
DTSTART;VALUE=DATE:20240829
DTEND;VALUE=DATE:20240830
DTSTAMP:20260425T191528
CREATED:20240624T222547Z
LAST-MODIFIED:20240624T223441Z
UID:3589-1724889600-1724975999@kapsi-gpialumni.org
SUMMARY:Alcorn vs UAB Tailgate
DESCRIPTION:
URL:https://kapsi-gpialumni.org/event/alcorn-vs-uab-tailgate/
LOCATION:Birmingham Jefferson Convention Complex\, 1020 24th St N\, Birmingham\, AL\, 35203\, United States
ATTACH;FMTTYPE=image/jpeg:https://kapsi-gpialumni.org/wp-content/uploads/2024/06/UAB-Tailgate-Game-3.jpg
END:VEVENT
BEGIN:VEVENT
DTSTART;VALUE=DATE:20240408
DTEND;VALUE=DATE:20240415
DTSTAMP:20260425T191528
CREATED:20240214T154742Z
LAST-MODIFIED:20240401T101546Z
UID:3128-1712534400-1713139199@kapsi-gpialumni.org
SUMMARY:75th Anniversary
DESCRIPTION:
URL:https://kapsi-gpialumni.org/event/75th-anniversary/
LOCATION:Alcorn State University\, 1000 ASU Dr.\, Lorman\, MS\, 39096\, United States
ATTACH;FMTTYPE=image/jpeg:https://kapsi-gpialumni.org/wp-content/uploads/2024/02/75th-Charter-Day-Flyer-2.jpg
END:VEVENT
BEGIN:VEVENT
DTSTART;TZID=America/Chicago:20240217T200000
DTEND;TZID=America/Chicago:20240217T235900
DTSTAMP:20260425T191528
CREATED:20240110T180046Z
LAST-MODIFIED:20240111T123311Z
UID:3078-1708200000-1708214340@kapsi-gpialumni.org
SUMMARY:Black & White Scholarship Ball - Jackson (MS) Alumni Chapter
DESCRIPTION:7On February 17\, 2024 at 8:11 PM\, Brother Preston Lee and Brother Richard Seals will be honored by Jackson (MS) Alumni Chapter of Kappa Alpha Psi Fraternity\, Inc. at their Annual Black and White Scholarship Ball at the Jackson Convention Center Ballroom A & B. Ticket prices are $80 with tables being $800; the assessment per brother is $160 per brother. We need your help in soliciting sponsorships. See attached the sponsorship ad sheet attached. \nYou can purchase tickets two ways: \n\nMail in payments or cash app to the Greater Jackson Kappa Foundation.  P. O. Box 16016\, Jackson\, MS 39236. If you are paying via cash app please cash app to $greaterjacksonkappa.\nPay via Eventbrite [CLICK HERE]
URL:https://kapsi-gpialumni.org/event/black-white-scholarship-ball-jackson-ms-alumni-chapter/
LOCATION:Jackson Convention Complex Ballroom A&B\, 105 E Pascagoula Street\, Jackson\, MS\, MS\, 39201\, United States
ATTACH;FMTTYPE=image/jpeg:https://kapsi-gpialumni.org/wp-content/uploads/2024/01/JA-Ball.jpeg
END:VEVENT
BEGIN:VEVENT
DTSTART;VALUE=DATE:20230819
DTEND;VALUE=DATE:20230820
DTSTAMP:20260425T191528
CREATED:20230129T080406Z
LAST-MODIFIED:20230913T233854Z
UID:1879-1692403200-1692489599@kapsi-gpialumni.org
SUMMARY:7th Annual Marino Casem Scholarship Golf Tournament
DESCRIPTION:Registration Closed!\nSee Highlights
URL:https://kapsi-gpialumni.org/event/golf-tournament/
LOCATION:Grand Bear Golf Course\, 12040 Grand Way Blvd\, Saucier\, MS\, United States
END:VEVENT
BEGIN:VEVENT
DTSTART;TZID=America/Chicago:20230302T080000
DTEND;TZID=America/Chicago:20230305T170000
DTSTAMP:20260425T191528
CREATED:20230129T111740Z
LAST-MODIFIED:20230224T200115Z
UID:1933-1677744000-1678035600@kapsi-gpialumni.org
SUMMARY:Alcorn State University Mid-Winter Conference 2023
DESCRIPTION:
URL:https://kapsi-gpialumni.org/event/alcorn-state-university-mid-winter-conference-2023/
LOCATION:The Charlotte Westin\, 601 South College Street\, Charlotte\, North Carolina\, United States
END:VEVENT
END:VCALENDAR