BEGIN:VCALENDAR
VERSION:2.0
PRODID:-//Gamma Pi Alumni Association - ECPv6.15.20//NONSGML v1.0//EN
CALSCALE:GREGORIAN
METHOD:PUBLISH
X-ORIGINAL-URL:https://kapsi-gpialumni.org
X-WR-CALDESC:Events for Gamma Pi Alumni Association
REFRESH-INTERVAL;VALUE=DURATION:PT1H
X-Robots-Tag:noindex
X-PUBLISHED-TTL:PT1H
BEGIN:VTIMEZONE
TZID:UTC
BEGIN:STANDARD
TZOFFSETFROM:+0000
TZOFFSETTO:+0000
TZNAME:UTC
DTSTART:20240101T000000
END:STANDARD
END:VTIMEZONE
BEGIN:VEVENT
DTSTART;VALUE=DATE:20251010
DTEND;VALUE=DATE:20251011
DTSTAMP:20260425T221741
CREATED:20250202T002007Z
LAST-MODIFIED:20250226T170607Z
UID:4058-1760054400-1760140799@kapsi-gpialumni.org
SUMMARY:9th Annual Marino Casem Scholarship Golf Tournament
DESCRIPTION:Registration Form\n\n\n\n\n\nDownload Brochure
URL:https://kapsi-gpialumni.org/event/golf-tournament-2025/
LOCATION:Clear Creek Golf Course\, 1566 Tiffentown Rd\, Vicksburg\, MS\, 39183\, United States
ATTACH;FMTTYPE=image/jpeg:https://kapsi-gpialumni.org/wp-content/uploads/2025/02/golf-brochure-thumbnail.jpg
END:VEVENT
END:VCALENDAR